Package: SCFA Version: 1.14.0 Command: rm -rf SCFA.buildbin-libdir && mkdir SCFA.buildbin-libdir && E:\biocbuild\bbs-3.19-bioc\R\bin\R.exe CMD INSTALL --build --library=SCFA.buildbin-libdir SCFA_1.14.0.tar.gz StartedAt: 2024-10-17 08:35:05 -0400 (Thu, 17 Oct 2024) EndedAt: 2024-10-17 08:35:22 -0400 (Thu, 17 Oct 2024) EllapsedTime: 16.9 seconds RetCode: 0 Status: OK PackageFile: SCFA_1.14.0.zip PackageFileSize: 1.402 MiB