Package: SCFA Version: 1.14.0 Command: E:\biocbuild\bbs-3.19-bioc\R\bin\R.exe CMD INSTALL SCFA StartedAt: 2024-10-16 16:55:54 -0400 (Wed, 16 Oct 2024) EndedAt: 2024-10-16 16:56:09 -0400 (Wed, 16 Oct 2024) EllapsedTime: 14.9 seconds RetCode: 0 Status: OK