Package: SCOPE Version: 1.16.0 Command: rm -rf SCOPE.buildbin-libdir && mkdir SCOPE.buildbin-libdir && /Users/biocbuild/BBS/utils/build-universal.sh SCOPE_1.16.0.tar.gz /Library/Frameworks/R.framework/Resources/bin/R SCOPE.buildbin-libdir StartedAt: 2024-10-15 20:11:30 -0400 (Tue, 15 Oct 2024) EndedAt: 2024-10-15 20:12:21 -0400 (Tue, 15 Oct 2024) EllapsedTime: 51.2 seconds RetCode: 0 Status: OK PackageFile: SCOPE_1.16.0.tgz PackageFileSize: 586.7 KiB