Package: SCOPE Version: 1.16.0 Command: /Library/Frameworks/R.framework/Resources/bin/R CMD check --install=check:SCOPE.install-out.txt --library=/Library/Frameworks/R.framework/Resources/library --no-vignettes --timings SCOPE_1.16.0.tar.gz StartedAt: 2024-10-18 11:30:47 -0400 (Fri, 18 Oct 2024) EndedAt: 2024-10-18 11:37:50 -0400 (Fri, 18 Oct 2024) EllapsedTime: 422.9 seconds RetCode: 0 Status: OK CheckDir: SCOPE.Rcheck Warnings: 0