Package: SCOPE Version: 1.16.0 Command: /Library/Frameworks/R.framework/Resources/bin/R CMD build --keep-empty-dirs --no-resave-data SCOPE StartedAt: 2024-06-10 04:22:58 -0400 (Mon, 10 Jun 2024) EndedAt: 2024-06-10 04:35:07 -0400 (Mon, 10 Jun 2024) EllapsedTime: 729.0 seconds RetCode: 0 Status: OK PackageFile: SCOPE_1.16.0.tar.gz PackageFileSize: 391.7 KiB