Package: SCOPE Version: 1.16.0 Command: /Library/Frameworks/R.framework/Resources/bin/R CMD check --install=check:SCOPE.install-out.txt --library=/Library/Frameworks/R.framework/Resources/library --no-vignettes --timings SCOPE_1.16.0.tar.gz StartedAt: 2024-06-11 04:47:29 -0400 (Tue, 11 Jun 2024) EndedAt: 2024-06-11 04:57:18 -0400 (Tue, 11 Jun 2024) EllapsedTime: 589.0 seconds RetCode: 0 Status: OK CheckDir: SCOPE.Rcheck Warnings: 0