Package: SCOPE Version: 1.16.0 Command: /home/biocbuild/R/R-beta-2024-04-15_r86425/bin/R CMD build --keep-empty-dirs --no-resave-data SCOPE StartedAt: 2024-05-09 03:25:39 -0000 (Thu, 09 May 2024) EndedAt: 2024-05-09 03:39:07 -0000 (Thu, 09 May 2024) EllapsedTime: 808.1 seconds RetCode: 0 Status: OK PackageFile: SCOPE_1.16.0.tar.gz PackageFileSize: 419.6 KiB