Package: SCOPE Version: 1.16.0 Command: /home/biocbuild/R/R-beta-2024-04-15_r86425/bin/R CMD check --install=check:SCOPE.install-out.txt --library=/home/biocbuild/R/R-beta-2024-04-15_r86425/site-library --no-vignettes --timings SCOPE_1.16.0.tar.gz StartedAt: 2024-05-09 11:44:16 -0000 (Thu, 09 May 2024) EndedAt: 2024-05-09 11:51:23 -0000 (Thu, 09 May 2024) EllapsedTime: 427.7 seconds RetCode: 0 Status: OK CheckDir: SCOPE.Rcheck Warnings: 0