Package: SCOPE Version: 1.16.0 Command: /Library/Frameworks/R.framework/Resources/bin/R CMD INSTALL SCOPE StartedAt: 2024-06-09 15:22:55 -0400 (Sun, 09 Jun 2024) EndedAt: 2024-06-09 15:23:39 -0400 (Sun, 09 Jun 2024) EllapsedTime: 44.5 seconds RetCode: 0 Status: OK