Package: SCOPE Version: 1.16.0 Command: rm -rf SCOPE.buildbin-libdir && mkdir SCOPE.buildbin-libdir && /Users/biocbuild/BBS/utils/build-universal.sh SCOPE_1.16.0.tar.gz /Library/Frameworks/R.framework/Resources/bin/R SCOPE.buildbin-libdir StartedAt: 2024-10-17 17:08:28 -0400 (Thu, 17 Oct 2024) EndedAt: 2024-10-17 17:09:52 -0400 (Thu, 17 Oct 2024) EllapsedTime: 83.8 seconds RetCode: 0 Status: OK PackageFile: SCOPE_1.16.0.tgz PackageFileSize: 586.6 KiB