Package: SCOPE Version: 1.16.0 Command: /Library/Frameworks/R.framework/Resources/bin/R CMD build --keep-empty-dirs --no-resave-data SCOPE StartedAt: 2024-10-16 23:04:20 -0400 (Wed, 16 Oct 2024) EndedAt: 2024-10-16 23:33:17 -0400 (Wed, 16 Oct 2024) EllapsedTime: 1736.7 seconds RetCode: 0 Status: OK PackageFile: SCOPE_1.16.0.tar.gz PackageFileSize: 391.4 KiB