Package: SCOPE Version: 1.16.0 Command: /Library/Frameworks/R.framework/Resources/bin/R CMD INSTALL SCOPE StartedAt: 2024-10-16 15:39:23 -0400 (Wed, 16 Oct 2024) EndedAt: 2024-10-16 15:40:42 -0400 (Wed, 16 Oct 2024) EllapsedTime: 78.6 seconds RetCode: 0 Status: OK