Package: SCOPE Version: 1.16.0 Command: chmod a+r SCOPE -R && E:\biocbuild\bbs-3.19-bioc\R\bin\R.exe CMD build --keep-empty-dirs --no-resave-data SCOPE StartedAt: 2024-10-16 21:48:25 -0400 (Wed, 16 Oct 2024) EndedAt: 2024-10-16 22:03:29 -0400 (Wed, 16 Oct 2024) EllapsedTime: 904.0 seconds RetCode: 0 Status: OK PackageFile: SCOPE_1.16.0.tar.gz PackageFileSize: 391.6 KiB