Package: SIAMCAT Version: 2.8.0 Command: /home/biocbuild/R/R-beta-2024-04-15_r86425/bin/R CMD build --keep-empty-dirs --no-resave-data SIAMCAT StartedAt: 2024-05-09 03:36:20 -0000 (Thu, 09 May 2024) EndedAt: 2024-05-09 03:41:56 -0000 (Thu, 09 May 2024) EllapsedTime: 336.4 seconds RetCode: 0 Status: OK PackageFile: SIAMCAT_2.8.0.tar.gz PackageFileSize: 18.64 MiB