Package: SIAMCAT Version: 2.8.0 Command: chmod a+r SIAMCAT -R && E:\biocbuild\bbs-3.19-bioc\R\bin\R.exe CMD build --keep-empty-dirs --no-resave-data SIAMCAT StartedAt: 2024-10-16 21:57:07 -0400 (Wed, 16 Oct 2024) EndedAt: 2024-10-16 22:02:12 -0400 (Wed, 16 Oct 2024) EllapsedTime: 305.7 seconds RetCode: 0 Status: OK PackageFile: SIAMCAT_2.8.0.tar.gz PackageFileSize: 18.5 MiB