Package: SMAD Version: 1.20.0 Command: /home/biocbuild/R/R-beta-2024-04-15_r86425/bin/R CMD check --install=check:SMAD.install-out.txt --library=/home/biocbuild/R/R-beta-2024-04-15_r86425/site-library --no-vignettes --timings SMAD_1.20.0.tar.gz StartedAt: 2024-05-09 12:05:25 -0000 (Thu, 09 May 2024) EndedAt: 2024-05-09 12:06:29 -0000 (Thu, 09 May 2024) EllapsedTime: 64.1 seconds RetCode: 0 Status: WARNINGS CheckDir: SMAD.Rcheck Warnings: 4