Package: SMAD Version: 1.20.0 Command: /Library/Frameworks/R.framework/Resources/bin/R CMD build --keep-empty-dirs --no-resave-data SMAD StartedAt: 2024-06-09 18:14:56 -0400 (Sun, 09 Jun 2024) EndedAt: 2024-06-09 18:15:26 -0400 (Sun, 09 Jun 2024) EllapsedTime: 30.4 seconds RetCode: 0 Status: OK PackageFile: SMAD_1.20.0.tar.gz PackageFileSize: 397 KiB