Package: SMAD Version: 1.20.0 Command: /Library/Frameworks/R.framework/Resources/bin/R CMD check --install=check:SMAD.install-out.txt --library=/Library/Frameworks/R.framework/Resources/library --no-vignettes --timings SMAD_1.20.0.tar.gz StartedAt: 2024-10-17 13:24:09 -0400 (Thu, 17 Oct 2024) EndedAt: 2024-10-17 13:26:16 -0400 (Thu, 17 Oct 2024) EllapsedTime: 126.9 seconds RetCode: 0 Status: OK CheckDir: SMAD.Rcheck Warnings: 0