Package: SMAD Version: 1.20.0 Command: chmod a+r SMAD -R && E:\biocbuild\bbs-3.19-bioc\R\bin\R.exe CMD build --keep-empty-dirs --no-resave-data SMAD StartedAt: 2024-10-16 22:02:41 -0400 (Wed, 16 Oct 2024) EndedAt: 2024-10-16 22:03:12 -0400 (Wed, 16 Oct 2024) EllapsedTime: 30.8 seconds RetCode: 0 Status: OK PackageFile: SMAD_1.20.0.tar.gz PackageFileSize: 377.1 KiB