Package: SMAP Version: 1.68.0 Command: /Library/Frameworks/R.framework/Resources/bin/R CMD build --keep-empty-dirs --no-resave-data SMAP StartedAt: 2024-10-17 09:34:35 -0400 (Thu, 17 Oct 2024) EndedAt: 2024-10-17 09:35:01 -0400 (Thu, 17 Oct 2024) EllapsedTime: 25.7 seconds RetCode: 0 Status: OK PackageFile: SMAP_1.68.0.tar.gz PackageFileSize: 4.375 MiB