Package: SMAP Version: 1.68.0 Command: /Library/Frameworks/R.framework/Resources/bin/R CMD check --install=check:SMAP.install-out.txt --library=/Library/Frameworks/R.framework/Resources/library --no-vignettes --timings SMAP_1.68.0.tar.gz StartedAt: 2024-10-18 12:52:35 -0400 (Fri, 18 Oct 2024) EndedAt: 2024-10-18 12:53:23 -0400 (Fri, 18 Oct 2024) EllapsedTime: 48.1 seconds RetCode: 0 Status: OK CheckDir: SMAP.Rcheck Warnings: 0