Package: SMAP Version: 1.68.0 Command: /Library/Frameworks/R.framework/Resources/bin/R CMD build --keep-empty-dirs --no-resave-data SMAP StartedAt: 2024-06-10 05:06:09 -0400 (Mon, 10 Jun 2024) EndedAt: 2024-06-10 05:06:42 -0400 (Mon, 10 Jun 2024) EllapsedTime: 33.7 seconds RetCode: 0 Status: OK PackageFile: SMAP_1.68.0.tar.gz PackageFileSize: 4.375 MiB