Package: SMAP Version: 1.68.0 Command: /home/biocbuild/R/R-beta-2024-04-15_r86425/bin/R CMD build --keep-empty-dirs --no-resave-data SMAP StartedAt: 2024-05-09 03:42:21 -0000 (Thu, 09 May 2024) EndedAt: 2024-05-09 03:42:39 -0000 (Thu, 09 May 2024) EllapsedTime: 18.0 seconds RetCode: 0 Status: OK PackageFile: SMAP_1.68.0.tar.gz PackageFileSize: 4.378 MiB