Package: SMAP Version: 1.68.0 Command: /Library/Frameworks/R.framework/Resources/bin/R CMD build --keep-empty-dirs --no-resave-data SMAP StartedAt: 2024-06-09 18:14:59 -0400 (Sun, 09 Jun 2024) EndedAt: 2024-06-09 18:15:24 -0400 (Sun, 09 Jun 2024) EllapsedTime: 24.8 seconds RetCode: 0 Status: OK PackageFile: SMAP_1.68.0.tar.gz PackageFileSize: 4.375 MiB