Package: SMAP Version: 1.68.0 Command: /Library/Frameworks/R.framework/Resources/bin/R CMD check --install=check:SMAP.install-out.txt --library=/Library/Frameworks/R.framework/Resources/library --no-vignettes --timings SMAP_1.68.0.tar.gz StartedAt: 2024-06-09 23:09:49 -0400 (Sun, 09 Jun 2024) EndedAt: 2024-06-09 23:10:32 -0400 (Sun, 09 Jun 2024) EllapsedTime: 43.0 seconds RetCode: 0 Status: OK CheckDir: SMAP.Rcheck Warnings: 0