Package: SMAP Version: 1.68.0 Command: /Library/Frameworks/R.framework/Resources/bin/R CMD build --keep-empty-dirs --no-resave-data SMAP StartedAt: 2024-10-16 23:29:31 -0400 (Wed, 16 Oct 2024) EndedAt: 2024-10-16 23:30:24 -0400 (Wed, 16 Oct 2024) EllapsedTime: 53.4 seconds RetCode: 0 Status: OK PackageFile: SMAP_1.68.0.tar.gz PackageFileSize: 4.375 MiB