Package: SMAP Version: 1.68.0 Command: /home/biocbuild/bbs-3.19-bioc/R/bin/R CMD check --install=check:SMAP.install-out.txt --library=/home/biocbuild/bbs-3.19-bioc/R/site-library --timings SMAP_1.68.0.tar.gz StartedAt: 2024-10-17 05:16:26 -0400 (Thu, 17 Oct 2024) EndedAt: 2024-10-17 05:16:57 -0400 (Thu, 17 Oct 2024) EllapsedTime: 31.0 seconds RetCode: 1 Status: ERROR CheckDir: SMAP.Rcheck Warnings: NA