Package: SMAP Version: 1.68.0 Command: rm -rf SMAP.buildbin-libdir && mkdir SMAP.buildbin-libdir && E:\biocbuild\bbs-3.19-bioc\R\bin\R.exe CMD INSTALL --build --library=SMAP.buildbin-libdir SMAP_1.68.0.tar.gz StartedAt: 2024-10-17 08:40:25 -0400 (Thu, 17 Oct 2024) EndedAt: 2024-10-17 08:40:58 -0400 (Thu, 17 Oct 2024) EllapsedTime: 33.5 seconds RetCode: 0 Status: OK PackageFile: SMAP_1.68.0.zip PackageFileSize: 4.484 MiB