Package: SMITE Version: 1.32.0 Command: /Library/Frameworks/R.framework/Resources/bin/R CMD INSTALL SMITE StartedAt: 2024-06-09 15:20:57 -0400 (Sun, 09 Jun 2024) EndedAt: 2024-06-09 15:21:57 -0400 (Sun, 09 Jun 2024) EllapsedTime: 59.1 seconds RetCode: 0 Status: OK