Package: SMITE Version: 1.32.0 Command: rm -rf SMITE.buildbin-libdir && mkdir SMITE.buildbin-libdir && F:\biocbuild\bbs-3.19-bioc\R\bin\R.exe CMD INSTALL --build --library=SMITE.buildbin-libdir SMITE_1.32.0.tar.gz StartedAt: 2024-06-27 08:57:17 -0400 (Thu, 27 Jun 2024) EndedAt: 2024-06-27 08:58:26 -0400 (Thu, 27 Jun 2024) EllapsedTime: 69.1 seconds RetCode: 0 Status: OK PackageFile: SMITE_1.32.0.zip PackageFileSize: 3.578 MiB