Package: SNAGEE Version: 1.44.0 Maintainer: David Venet MaintainerEmail: davenet at ulb.ac.be git_url: https://git.bioconductor.org/packages/SNAGEE git_branch: RELEASE_3_19 git_last_commit: 4c29a44 git_last_commit_date: 2024-04-30 10:29:34 -0400 (Tue, 30 Apr 2024)