Package: SNAGEE Version: 1.44.0 Command: /Library/Frameworks/R.framework/Resources/bin/R CMD check --install=check:SNAGEE.install-out.txt --library=/Library/Frameworks/R.framework/Resources/library --no-vignettes --timings SNAGEE_1.44.0.tar.gz StartedAt: 2024-10-17 13:26:16 -0400 (Thu, 17 Oct 2024) EndedAt: 2024-10-17 13:27:22 -0400 (Thu, 17 Oct 2024) EllapsedTime: 66.4 seconds RetCode: 0 Status: OK CheckDir: SNAGEE.Rcheck Warnings: 0