Package: SNPediaR Version: 1.30.0 Maintainer: David Montaner MaintainerEmail: david.montaner at gmail.com git_url: https://git.bioconductor.org/packages/SNPediaR git_branch: RELEASE_3_19 git_last_commit: a1ab1b4 git_last_commit_date: 2024-04-30 10:52:35 -0400 (Tue, 30 Apr 2024)