Package: SNPediaR Version: 1.30.0 Command: /Library/Frameworks/R.framework/Resources/bin/R CMD build --keep-empty-dirs --no-resave-data SNPediaR StartedAt: 2024-10-17 09:37:35 -0400 (Thu, 17 Oct 2024) EndedAt: 2024-10-17 09:37:47 -0400 (Thu, 17 Oct 2024) EllapsedTime: 11.3 seconds RetCode: 0 Status: OK PackageFile: SNPediaR_1.30.0.tar.gz PackageFileSize: 230.4 KiB