Package: SNPhood Version: 1.34.0 Command: /Library/Frameworks/R.framework/Resources/bin/R CMD INSTALL SNPhood StartedAt: 2024-10-16 15:41:50 -0400 (Wed, 16 Oct 2024) EndedAt: 2024-10-16 15:44:11 -0400 (Wed, 16 Oct 2024) EllapsedTime: 141.5 seconds RetCode: 0 Status: OK