Package: SNPhood Version: 1.34.0 Command: E:\biocbuild\bbs-3.19-bioc\R\bin\R.exe CMD INSTALL SNPhood StartedAt: 2024-10-16 16:33:02 -0400 (Wed, 16 Oct 2024) EndedAt: 2024-10-16 16:34:28 -0400 (Wed, 16 Oct 2024) EllapsedTime: 85.4 seconds RetCode: 0 Status: OK