Package: SPIA Version: 2.56.0 Command: /Library/Frameworks/R.framework/Resources/bin/R CMD INSTALL SPIA StartedAt: 2024-06-09 15:10:58 -0400 (Sun, 09 Jun 2024) EndedAt: 2024-06-09 15:11:04 -0400 (Sun, 09 Jun 2024) EllapsedTime: 6.3 seconds RetCode: 0 Status: OK