Package: SPIA Version: 2.56.0 Command: /Library/Frameworks/R.framework/Resources/bin/R CMD build --keep-empty-dirs --no-resave-data SPIA StartedAt: 2024-06-09 18:17:55 -0400 (Sun, 09 Jun 2024) EndedAt: 2024-06-09 18:23:43 -0400 (Sun, 09 Jun 2024) EllapsedTime: 348.3 seconds RetCode: 0 Status: OK PackageFile: SPIA_2.56.0.tar.gz PackageFileSize: 2.548 MiB