Package: SPIA Version: 2.56.0 Command: rm -rf SPIA.buildbin-libdir && mkdir SPIA.buildbin-libdir && /Users/biocbuild/BBS/utils/build-universal.sh SPIA_2.56.0.tar.gz /Library/Frameworks/R.framework/Resources/bin/R SPIA.buildbin-libdir StartedAt: 2024-10-17 17:16:47 -0400 (Thu, 17 Oct 2024) EndedAt: 2024-10-17 17:17:00 -0400 (Thu, 17 Oct 2024) EllapsedTime: 13.2 seconds RetCode: 0 Status: OK PackageFile: SPIA_2.56.0.tgz PackageFileSize: 2.536 MiB