Package: SPIA Version: 2.56.0 Command: /Library/Frameworks/R.framework/Resources/bin/R CMD build --keep-empty-dirs --no-resave-data SPIA StartedAt: 2024-10-16 23:38:27 -0400 (Wed, 16 Oct 2024) EndedAt: 2024-10-16 23:51:19 -0400 (Wed, 16 Oct 2024) EllapsedTime: 771.6 seconds RetCode: 0 Status: OK PackageFile: SPIA_2.56.0.tar.gz PackageFileSize: 2.549 MiB