Package: SPIA Version: 2.56.0 Command: /Library/Frameworks/R.framework/Resources/bin/R CMD INSTALL SPIA StartedAt: 2024-10-16 15:12:36 -0400 (Wed, 16 Oct 2024) EndedAt: 2024-10-16 15:13:06 -0400 (Wed, 16 Oct 2024) EllapsedTime: 29.8 seconds RetCode: 0 Status: OK