Package: SPIA Version: 2.56.0 Command: chmod a+r SPIA -R && F:\biocbuild\bbs-3.19-bioc\R\bin\R.exe CMD build --keep-empty-dirs --no-resave-data SPIA StartedAt: 2024-06-26 22:08:44 -0400 (Wed, 26 Jun 2024) EndedAt: 2024-06-26 22:16:09 -0400 (Wed, 26 Jun 2024) EllapsedTime: 444.9 seconds RetCode: 0 Status: OK PackageFile: SPIA_2.56.0.tar.gz PackageFileSize: 2.449 MiB