Package: SPIA Version: 2.56.0 Command: rm -rf SPIA.buildbin-libdir && mkdir SPIA.buildbin-libdir && E:\biocbuild\bbs-3.19-bioc\R\bin\R.exe CMD INSTALL --build --library=SPIA.buildbin-libdir SPIA_2.56.0.tar.gz StartedAt: 2024-10-17 08:42:37 -0400 (Thu, 17 Oct 2024) EndedAt: 2024-10-17 08:42:48 -0400 (Thu, 17 Oct 2024) EllapsedTime: 10.9 seconds RetCode: 0 Status: OK PackageFile: SPIA_2.56.0.zip PackageFileSize: 2.443 MiB