Package: SPIA Version: 2.56.0 Command: chmod a+r SPIA -R && E:\biocbuild\bbs-3.19-bioc\R\bin\R.exe CMD build --keep-empty-dirs --no-resave-data SPIA StartedAt: 2024-10-16 22:08:01 -0400 (Wed, 16 Oct 2024) EndedAt: 2024-10-16 22:15:12 -0400 (Wed, 16 Oct 2024) EllapsedTime: 430.7 seconds RetCode: 0 Status: OK PackageFile: SPIA_2.56.0.tar.gz PackageFileSize: 2.45 MiB