Package: SPOTlight Version: 1.8.0 Maintainer: Marc Elosua-Bayes MaintainerEmail: elosua.marc at gmail.com git_url: https://git.bioconductor.org/packages/SPOTlight git_branch: RELEASE_3_19 git_last_commit: 142bae8 git_last_commit_date: 2024-04-30 11:41:51 -0400 (Tue, 30 Apr 2024)