Package: SPOTlight Version: 1.8.0 Command: rm -rf SPOTlight.buildbin-libdir && mkdir SPOTlight.buildbin-libdir && /Users/biocbuild/BBS/utils/build-universal.sh SPOTlight_1.8.0.tar.gz /Library/Frameworks/R.framework/Resources/bin/R SPOTlight.buildbin-libdir StartedAt: 2024-10-15 20:28:33 -0400 (Tue, 15 Oct 2024) EndedAt: 2024-10-15 20:29:14 -0400 (Tue, 15 Oct 2024) EllapsedTime: 41.0 seconds RetCode: 0 Status: OK PackageFile: SPOTlight_1.8.0.tgz PackageFileSize: 4.22 MiB