Package: SPOTlight Version: 1.8.0 Command: /Library/Frameworks/R.framework/Resources/bin/R CMD INSTALL SPOTlight StartedAt: 2024-06-09 16:06:26 -0400 (Sun, 09 Jun 2024) EndedAt: 2024-06-09 16:07:09 -0400 (Sun, 09 Jun 2024) EllapsedTime: 43.2 seconds RetCode: 0 Status: OK