Package: SPOTlight Version: 1.8.0 Command: /home/biocbuild/R/R-beta-2024-04-15_r86425/bin/R CMD build --keep-empty-dirs --no-resave-data SPOTlight StartedAt: 2024-05-09 03:52:30 -0000 (Thu, 09 May 2024) EndedAt: 2024-05-09 03:56:29 -0000 (Thu, 09 May 2024) EllapsedTime: 239.3 seconds RetCode: 0 Status: OK PackageFile: SPOTlight_1.8.0.tar.gz PackageFileSize: 2.097 MiB