Package: SPsimSeq Version: 1.14.0 Command: /Library/Frameworks/R.framework/Resources/bin/R CMD check --install=check:SPsimSeq.install-out.txt --library=/Library/Frameworks/R.framework/Resources/library --no-vignettes --timings SPsimSeq_1.14.0.tar.gz StartedAt: 2024-10-17 13:50:16 -0400 (Thu, 17 Oct 2024) EndedAt: 2024-10-17 14:06:34 -0400 (Thu, 17 Oct 2024) EllapsedTime: 977.9 seconds RetCode: 0 Status: OK CheckDir: SPsimSeq.Rcheck Warnings: 0