Package: SPsimSeq Version: 1.14.0 Command: chmod a+r SPsimSeq -R && E:\biocbuild\bbs-3.19-bioc\R\bin\R.exe CMD build --keep-empty-dirs --no-resave-data SPsimSeq StartedAt: 2024-10-16 22:10:17 -0400 (Wed, 16 Oct 2024) EndedAt: 2024-10-16 22:15:28 -0400 (Wed, 16 Oct 2024) EllapsedTime: 310.5 seconds RetCode: 0 Status: OK PackageFile: SPsimSeq_1.14.0.tar.gz PackageFileSize: 578.4 KiB